BEGIN:VCALENDAR
VERSION:2.0
PRODID:-//Care Documentary - ECPv6.3.5//NONSGML v1.0//EN
CALSCALE:GREGORIAN
METHOD:PUBLISH
X-WR-CALNAME:Care Documentary
X-ORIGINAL-URL:https://caredocumentary.com
X-WR-CALDESC:Events for Care Documentary
REFRESH-INTERVAL;VALUE=DURATION:PT1H
X-Robots-Tag:noindex
X-PUBLISHED-TTL:PT1H
BEGIN:VTIMEZONE
TZID:UTC
BEGIN:STANDARD
TZOFFSETFROM:+0000
TZOFFSETTO:+0000
TZNAME:UTC
DTSTART:20170101T000000
END:STANDARD
END:VTIMEZONE
BEGIN:VEVENT
DTSTART;TZID=UTC:20180603T120000
DTEND;TZID=UTC:20180603T140000
DTSTAMP:20260419T123202
CREATED:20180507T210313Z
LAST-MODIFIED:20180507T210708Z
UID:1464-1528027200-1528034400@caredocumentary.com
SUMMARY:The Samuel Field Y and JFREJ present: Y-Care?
DESCRIPTION:Join us for:\n\n\nLunch\n\n\nFilm Screening of CARE (documentary) and Q&A\n\n\nLearn more about the Senior Services offered at SFY\n\n\nHonoring volunteers from the Senior Center\n\n\n  \nAbout the film: CARE illuminates the complex relationships and deep attachments\nthat can be formed between seniors and care workers while exposing the cracks in\na system that is not serving either group the way they need. \n  \nAbout The Caring Majority: a movement of seniors\, people with disabilities\, family caregivers\, domestic workers\, and home care providers from all across the state. Come and learn more. #caringmajority \n  \nSuggested Donation: $5.00\nRSVP required to: SSchachter@sfy.org
URL:https://caredocumentary.com/screenings/samuel-field-y-jfrej-present-y-care/
LOCATION:THE SAMUEL FIELD Y\, 58-20 Little Neck Parkway\, Little Neck\, NY\,  11362\, United States
ORGANIZER;CN="THE SAMUEL FIELD Y & JEWS FOR RACIAL & ECONOMIC JUSTICE":MAILTO:SSchachter@sfy.org
END:VEVENT
BEGIN:VEVENT
DTSTART;TZID=UTC:20180518T190000
DTEND;TZID=UTC:20180518T210000
DTSTAMP:20260419T123202
CREATED:20180420T015614Z
LAST-MODIFIED:20180420T015614Z
UID:1444-1526670000-1526677200@caredocumentary.com
SUMMARY:Care\, Vancouver Premiere
DESCRIPTION:Come join us for a revealing and intimate point of view from care workers and their clients and find out how you can be a voice in effecting improvements as a professional caregiver.
URL:https://caredocumentary.com/screenings/care-vancouver-premiere/
LOCATION:Assembly Hall / Corporate Office\, 5300 MacArthur Blvd.\, Suite 201\, Vancouver\, WA\, 98661\, United States
CATEGORIES:Community Event
END:VEVENT
BEGIN:VEVENT
DTSTART;TZID=UTC:20180412T173000
DTEND;TZID=UTC:20180412T190000
DTSTAMP:20260419T123202
CREATED:20180420T023657Z
LAST-MODIFIED:20180420T023657Z
UID:1449-1523554200-1523559600@caredocumentary.com
SUMMARY:2018 Southern Gerontological Society Annual Conference
DESCRIPTION:Care Documentary Screening with Director Q&A \nFrom the filmmaker – “Care pulls back the curtain on the poignant and largely hidden world of in-home elder care. Beautifully shot and deeply moving\, the film reveals the complex nature of the work\, the intimate bonds that form between care workers and elders-and the cracks in a system that is poorly serving both”. \nThe documentary screening will be followed by a discussion with the filmmaker\, Deirdre Fishel. “Care” has been awarded this year’s Southern Gerontological Society’s Media Award.
URL:https://caredocumentary.com/screenings/2018-southern-gerontological-society-annual-conference/
LOCATION:Legacy Lodge and Conference Center\, Lake Lanier\, Georgia
END:VEVENT
BEGIN:VEVENT
DTSTART;TZID=UTC:20180224T150000
DTEND;TZID=UTC:20180224T163000
DTSTAMP:20260419T123202
CREATED:20180227T172506Z
LAST-MODIFIED:20180227T172532Z
UID:1415-1519484400-1519489800@caredocumentary.com
SUMMARY:Bellingham Human Rights Film Festival
DESCRIPTION:
URL:https://caredocumentary.com/screenings/bellingham-hrff/
LOCATION:Fairhaven College Auditorium\, Western Washington University\, Bellingham\, WA\, United States
END:VEVENT
BEGIN:VEVENT
DTSTART;VALUE=DATE:20180109
DTEND;VALUE=DATE:20180209
DTSTAMP:20260419T123202
CREATED:20171218T152409Z
LAST-MODIFIED:20180125T204857Z
UID:1385-1515456000-1518134399@caredocumentary.com
SUMMARY:Encore Broadcast: WORLD Channel’s America ReFramed
DESCRIPTION:CARE \nStreaming free until Feb. 8\, 2017 \non WORLD Channel’s America ReFramed \n 
URL:https://caredocumentary.com/screenings/encore-broadcast-world-channels-america-reframed/
LOCATION:America ReFramed\, WORLD Channel
CATEGORIES:Community Event
END:VEVENT
BEGIN:VEVENT
DTSTART;TZID=UTC:20171209T120000
DTEND;TZID=UTC:20171209T140000
DTSTAMP:20260419T123202
CREATED:20170915T175215Z
LAST-MODIFIED:20171217T193100Z
UID:1319-1512820800-1512828000@caredocumentary.com
SUMMARY:Puget Sound Advocates for Retirement Action
DESCRIPTION:
URL:https://caredocumentary.com/screenings/puget-sound-advocates-retirement-action/
LOCATION:Washington State Labor Council\, 321 16th Ave. S\, Seattle\, WA\, United States
END:VEVENT
BEGIN:VEVENT
DTSTART;TZID=UTC:20171117T100000
DTEND;TZID=UTC:20171117T120000
DTSTAMP:20260419T123202
CREATED:20170531T210354Z
LAST-MODIFIED:20170531T210354Z
UID:1087-1510912800-1510920000@caredocumentary.com
SUMMARY:Oasis Albuquerque
DESCRIPTION:
URL:https://caredocumentary.com/screenings/oasis-albuquerque/
LOCATION:Oasis Albuquerque\, 3301 Menaul Blvd NE\, Albuquerque\, NM\, United States
END:VEVENT
BEGIN:VEVENT
DTSTART;TZID=UTC:20171111T090000
DTEND;TZID=UTC:20171111T113000
DTSTAMP:20260419T123202
CREATED:20170531T205542Z
LAST-MODIFIED:20171009T163139Z
UID:1081-1510390800-1510399800@caredocumentary.com
SUMMARY:Hawaii Pacific Gerontological Society
DESCRIPTION:Screening of “Care” followed by a panel of four local family and professional caregivers. \nFREE — but advance registration is required. Call the Hawaii Pacific Gerontological Society’s Executive Director at 722-8487 or e-mail Sherry Goya at sgoyallc@aol.com.
URL:https://caredocumentary.com/screenings/hawaii-pacific-gerontological-society/
LOCATION:Catholic Chariities of Hawai’i\, 1822 Keeaumoku Street\, Honolulu\, HI\, 96822\, United States
END:VEVENT
BEGIN:VEVENT
DTSTART;TZID=UTC:20171110T231000
DTEND;TZID=UTC:20171110T231000
DTSTAMP:20260419T123202
CREATED:20170825T170904Z
LAST-MODIFIED:20170825T170904Z
UID:1293-1510355400-1510355400@caredocumentary.com
SUMMARY:Eastrose Unitarian Universalist
DESCRIPTION:
URL:https://caredocumentary.com/screenings/eastrose-unitarian-universalist/
LOCATION:Eastrose Unitarian Universalist\, 1133 NE 181st Ave\, Portland\, OR\, United States
END:VEVENT
BEGIN:VEVENT
DTSTART;TZID=UTC:20171108T173000
DTEND;TZID=UTC:20171108T193000
DTSTAMP:20260419T123202
CREATED:20170825T170715Z
LAST-MODIFIED:20170825T170715Z
UID:1290-1510162200-1510169400@caredocumentary.com
SUMMARY:University of Washington\, Healthy Generations
DESCRIPTION:
URL:https://caredocumentary.com/screenings/university-washington-healthy-generations/
LOCATION:University of Washington\, 4101 15th Ave NE\, Seattle\, WA\, United States
END:VEVENT
BEGIN:VEVENT
DTSTART;TZID=UTC:20171104T103000
DTEND;TZID=UTC:20171104T123000
DTSTAMP:20260419T123202
CREATED:20170825T170452Z
LAST-MODIFIED:20170825T170452Z
UID:1287-1509791400-1509798600@caredocumentary.com
SUMMARY:Maplewood Memorial Library
DESCRIPTION:
URL:https://caredocumentary.com/screenings/maplewood-memorial-library/
LOCATION:Maplewood Memorial Library\, 51 Baker St\, Maplewood\, NJ\, United States
END:VEVENT
BEGIN:VEVENT
DTSTART;TZID=UTC:20171103T143000
DTEND;TZID=UTC:20171103T163000
DTSTAMP:20260419T123202
CREATED:20170601T165215Z
LAST-MODIFIED:20170601T165215Z
UID:1090-1509719400-1509726600@caredocumentary.com
SUMMARY:Area Agency on Aging at Land of Sky Regional Council
DESCRIPTION:
URL:https://caredocumentary.com/screenings/area-agency-aging-land-sky-regional-council/
LOCATION:Area Agency on Aging at Land of Sky Regional Council\, 339 new Leicester Hwy\, Ste140\, Asheville\, NC\, United States
END:VEVENT
BEGIN:VEVENT
DTSTART;TZID=UTC:20171026T180000
DTEND;TZID=UTC:20171026T200000
DTSTAMP:20260419T123202
CREATED:20170815T142409Z
LAST-MODIFIED:20170815T142409Z
UID:1257-1509040800-1509048000@caredocumentary.com
SUMMARY:Public Justice Center
DESCRIPTION:
URL:https://caredocumentary.com/screenings/public-justice-center/
LOCATION:University of Maryland School of Social Work\, 525 W. Redwood Street\, Baltimore\, MD\, United States
END:VEVENT
BEGIN:VEVENT
DTSTART;TZID=UTC:20171016T155507
DTEND;TZID=UTC:20171016T155507
DTSTAMP:20260419T123202
CREATED:20170512T190923Z
LAST-MODIFIED:20171016T155507Z
UID:1066-1508169307-1508169307@caredocumentary.com
SUMMARY:Institute of Aging (Private Event)
DESCRIPTION:
URL:https://caredocumentary.com/screenings/institute-of-aging/
END:VEVENT
BEGIN:VEVENT
DTSTART;TZID=UTC:20171015T103000
DTEND;TZID=UTC:20171015T123000
DTSTAMP:20260419T123202
CREATED:20170915T174958Z
LAST-MODIFIED:20170915T174958Z
UID:1316-1508063400-1508070600@caredocumentary.com
SUMMARY:St. James Lutheran Church
DESCRIPTION:
URL:https://caredocumentary.com/screenings/st-james-lutheran-church/
LOCATION:St. James Lutheran Church\, 5129 Wolf Rd\, Western Springs\, IL\, United States
END:VEVENT
BEGIN:VEVENT
DTSTART;TZID=UTC:20171011T150000
DTEND;TZID=UTC:20171011T173000
DTSTAMP:20260419T123202
CREATED:20171009T165401Z
LAST-MODIFIED:20171009T172330Z
UID:1350-1507734000-1507743000@caredocumentary.com
SUMMARY:Temple University: Open screening
DESCRIPTION:Free screening of “Care” followed by a discussion with producer Tony Heriza. \nSponsored by Gender\, Sexuality and Women’s Studies\, Disability Resources and Services\, and the Institute on Disabilities. \nMore info: https://events.temple.edu/care-documentary-screening-and-discussion
URL:https://caredocumentary.com/screenings/temple-university/
LOCATION:Temple University\, Women's Studies Lounge\, 821 Anderson Hall\, 1835 N. 12th Street\, Philadelphia\, PA\, United States
END:VEVENT
BEGIN:VEVENT
DTSTART;TZID=UTC:20171005T173000
DTEND;TZID=UTC:20171005T193000
DTSTAMP:20260419T123202
CREATED:20170825T170319Z
LAST-MODIFIED:20170825T170319Z
UID:1285-1507224600-1507231800@caredocumentary.com
SUMMARY:Film Media Arts Dept\, Temple University (Private Screening)
DESCRIPTION:
URL:https://caredocumentary.com/screenings/film-media-arts-dept-temple-university-private-screening/
END:VEVENT
BEGIN:VEVENT
DTSTART;TZID=UTC:20171002T180000
DTEND;TZID=UTC:20171002T200000
DTSTAMP:20260419T123202
CREATED:20170825T170157Z
LAST-MODIFIED:20170825T170157Z
UID:1282-1506967200-1506974400@caredocumentary.com
SUMMARY:University of Indianapolis
DESCRIPTION:
URL:https://caredocumentary.com/screenings/university-of-indianapolis/
LOCATION:Health Pavilion\, 1400 E. Hanna Ave\, IN\, United States
END:VEVENT
BEGIN:VEVENT
DTSTART;TZID=UTC:20171002T140000
DTEND;TZID=UTC:20171002T160000
DTSTAMP:20260419T123202
CREATED:20170825T170021Z
LAST-MODIFIED:20170825T170021Z
UID:1279-1506952800-1506960000@caredocumentary.com
SUMMARY:University of Eastern Finland
DESCRIPTION:
URL:https://caredocumentary.com/screenings/university-eastern-finland/
LOCATION:University of Eastern Finland\, Yliopistokatu 2\, Joensuu\, Finland
END:VEVENT
BEGIN:VEVENT
DTSTART;TZID=UTC:20170930T180000
DTEND;TZID=UTC:20170930T200000
DTSTAMP:20260419T123202
CREATED:20170707T173900Z
LAST-MODIFIED:20170707T173900Z
UID:1126-1506794400-1506801600@caredocumentary.com
SUMMARY:Domesticas Unidas
DESCRIPTION:
URL:https://caredocumentary.com/screenings/domesticas-unidas/
LOCATION:Domesticas Unidas Work Center\, 1606 Fulton Ave\, San Antonio\, TX\, United States
END:VEVENT
BEGIN:VEVENT
DTSTART;TZID=UTC:20170928T173000
DTEND;TZID=UTC:20170928T193000
DTSTAMP:20260419T123202
CREATED:20170731T204236Z
LAST-MODIFIED:20170731T204236Z
UID:1237-1506619800-1506627000@caredocumentary.com
SUMMARY:National Organization for Women - Cedar Rapids Chapter
DESCRIPTION:
URL:https://caredocumentary.com/screenings/national-organization-women-cedar-rapids-chapter/
LOCATION:Cedar Rapids Public Library – Whipple Auditorium\, 450 5th Ave SE\, Cedar Rapids\, IA\, United States
END:VEVENT
BEGIN:VEVENT
DTSTART;TZID=UTC:20170925T191500
DTEND;TZID=UTC:20170925T211500
DTSTAMP:20260419T123202
CREATED:20170629T175740Z
LAST-MODIFIED:20170629T175740Z
UID:1122-1506366900-1506374100@caredocumentary.com
SUMMARY:ArtsQuest and Lehigh University
DESCRIPTION:
URL:https://caredocumentary.com/screenings/artsquest-lehigh-university/
LOCATION:Frank Banko Alehouse Cinemas\, 101 Founders Way\, Bethlehem\, PA\, United States
END:VEVENT
BEGIN:VEVENT
DTSTART;TZID=UTC:20170923T133000
DTEND;TZID=UTC:20170923T153000
DTSTAMP:20260419T123202
CREATED:20170911T172424Z
LAST-MODIFIED:20170911T172424Z
UID:1308-1506173400-1506180600@caredocumentary.com
SUMMARY:Pennsylvania Link to Aging and Disability Resources | Lebanon County Partners' Network
DESCRIPTION:
URL:https://caredocumentary.com/screenings/pennsylvania-link-aging-disability-resources-lebanon-county-partners-network/
LOCATION:Manheim Township Public Library\, 595 Granite Run Drive\, Lancaster\, PA\, United States
END:VEVENT
BEGIN:VEVENT
DTSTART;TZID=UTC:20170921T183000
DTEND;TZID=UTC:20170921T203000
DTSTAMP:20260419T123202
CREATED:20170717T174825Z
LAST-MODIFIED:20170717T174825Z
UID:1139-1506018600-1506025800@caredocumentary.com
SUMMARY:Aristotle University of Thessaloniki
DESCRIPTION:
URL:https://caredocumentary.com/screenings/aristotle-university-thessaloniki/
LOCATION:Lab of Medical Physics\, Living Lab\, Thessaloniki\, Greece
END:VEVENT
BEGIN:VEVENT
DTSTART;TZID=UTC:20170921T180000
DTEND;TZID=UTC:20170921T200000
DTSTAMP:20260419T123202
CREATED:20170815T142216Z
LAST-MODIFIED:20170815T142216Z
UID:1254-1506016800-1506024000@caredocumentary.com
SUMMARY:Rochester Workers' Center
DESCRIPTION:
URL:https://caredocumentary.com/screenings/rochester-workers-center/
LOCATION:Thomas P Ryan Recreation Center\, 530 Webster Ave\, Rochester\, NY\, United States
END:VEVENT
BEGIN:VEVENT
DTSTART;TZID=UTC:20170918T140000
DTEND;TZID=UTC:20170918T160000
DTSTAMP:20260419T123202
CREATED:20170825T165838Z
LAST-MODIFIED:20170825T165838Z
UID:1275-1505743200-1505750400@caredocumentary.com
SUMMARY:Mary's Woods at Marylhurst
DESCRIPTION:
URL:https://caredocumentary.com/screenings/marys-woods-marylhurst/
LOCATION:Marylhurst Auditorium\, 17400 Holy Names Drive.\, Lake Oswego\, OR\, United States
END:VEVENT
BEGIN:VEVENT
DTSTART;TZID=UTC:20170915T150000
DTEND;TZID=UTC:20170915T170000
DTSTAMP:20260419T123202
CREATED:20170911T172606Z
LAST-MODIFIED:20170911T172606Z
UID:1311-1505487600-1505494800@caredocumentary.com
SUMMARY:Osher Lifelong Learning Institute at Clemson University
DESCRIPTION:
URL:https://caredocumentary.com/screenings/osher-lifelong-learning-institute-clemson-university/
LOCATION:Charles K. Cheezem Education Center\, 100 Thomas Green Boulevard\, Clemson\, SC\, United States
END:VEVENT
BEGIN:VEVENT
DTSTART;TZID=UTC:20170913T120000
DTEND;TZID=UTC:20170913T140000
DTSTAMP:20260419T123202
CREATED:20170831T175750Z
LAST-MODIFIED:20170831T175750Z
UID:1299-1505304000-1505311200@caredocumentary.com
SUMMARY:Liberty Resources (Private Screening)
DESCRIPTION:
URL:https://caredocumentary.com/screenings/liberty-resources-private-screening/
END:VEVENT
BEGIN:VEVENT
DTSTART;TZID=UTC:20170902T081500
DTEND;TZID=UTC:20170902T101500
DTSTAMP:20260419T123202
CREATED:20170601T165425Z
LAST-MODIFIED:20170601T165425Z
UID:1093-1504340100-1504347300@caredocumentary.com
SUMMARY:Louisiana Geriatrics Society (Private Screening)
DESCRIPTION:
URL:https://caredocumentary.com/screenings/louisiana-geriatrics-society-private-screening/
END:VEVENT
BEGIN:VEVENT
DTSTART;TZID=UTC:20170831T183000
DTEND;TZID=UTC:20170831T203000
DTSTAMP:20260419T123202
CREATED:20170825T165621Z
LAST-MODIFIED:20170825T165621Z
UID:1272-1504204200-1504211400@caredocumentary.com
SUMMARY:Pennsylvania Link to Aging and Disability Resources | Lancaster County Partners' Network
DESCRIPTION:
URL:https://caredocumentary.com/screenings/pennsylvania-link-aging-disability-resources-lancaster-county-partners-network/
LOCATION:Emerald Foundation Community Campus\, 2120 Oregon Pike\, Lancaster\, PA\, United States
END:VEVENT
END:VCALENDAR